BEGIN:VCALENDAR
VERSION:2.0
PRODID:-//ChamberMaster//Event Calendar 2.0//EN
METHOD:PUBLISH
X-PUBLISHED-TTL:P1H
REFRESH-INTERVAL:P1H
CALSCALE:GREGORIAN
BEGIN:VTIMEZONE
TZID:America/Chicago
BEGIN:DAYLIGHT
RRULE:FREQ=YEARLY;BYMONTH=3;BYDAY=2SU
DTSTART:20070101T000000
TZOFFSETFROM:-0600
TZOFFSETTO:-0500
TZNAME:Central Daylight Time
END:DAYLIGHT
BEGIN:STANDARD
RRULE:FREQ=YEARLY;BYMONTH=11;BYDAY=1SU
DTSTART:20070101T000000
TZOFFSETFROM:-0500
TZOFFSETTO:-0600
TZNAME:Central Standard Time
END:STANDARD
END:VTIMEZONE
BEGIN:VEVENT
DTSTART;TZID=America/Chicago:20260301T140000
DTEND;TZID=America/Chicago:20260301T160000
X-MICROSOFT-CDO-ALLDAYEVENT:FALSE
SUMMARY:Stage North Theatre Presents Forbidden Broadway
DESCRIPTION:Forbidden Broadway began as an off-Broadway revue parodying musical theatre\, particularly Broadway musicals. Conceived\, written\, and directed by Gerard Alessandrini\, the show is a cabaret revue sharply spoofing show tunes\, characters and plots of contemporary and current Broadway musicals including Wicked\, Les Mis rables\, The Lion King\, Spamalot\, Annie\, Rent\, and Newsies. It also targets famous Broadway actors\, writers\, composers\, directors\, choreographers and producers.
X-ALT-DESC;FMTTYPE=text/html:<!DOCTYPE html><html><head><title></title></head><body aria-disabled="false"><p>Forbidden Broadway began as an off-Broadway revue parodying musical theatre\, particularly Broadway musicals. Conceived\, written\, and directed by Gerard Alessandrini\, the show is a cabaret revue sharply spoofing show tunes\, characters and plots of contemporary and current Broadway musicals including Wicked\, Les Mis&eacute\;rables\, The Lion King\, Spamalot\, Annie\, Rent\, and Newsies. It also targets famous Broadway actors\, writers\, composers\, directors\, choreographers and producers.</p></body></html>
LOCATION:1001 Kingwood St. Ste B-50 Brainerd MN 56401
UID:e.2467.1405467
SEQUENCE:3
DTSTAMP:20260423T150221Z
URL:https://business.brainerdlakeschamber.com/eventcalendar/Details/stage-north-theatre-presents-forbidden-broadway-1660899?sourceTypeId=Hub
END:VEVENT
END:VCALENDAR
