BEGIN:VCALENDAR
VERSION:2.0
PRODID:-//ChamberMaster//Event Calendar 2.0//EN
METHOD:PUBLISH
X-PUBLISHED-TTL:P1H
REFRESH-INTERVAL:P1H
CALSCALE:GREGORIAN
BEGIN:VTIMEZONE
TZID:America/Chicago
BEGIN:DAYLIGHT
RRULE:FREQ=YEARLY;BYMONTH=3;BYDAY=2SU
DTSTART:20070101T000000
TZOFFSETFROM:-0600
TZOFFSETTO:-0500
TZNAME:Central Daylight Time
END:DAYLIGHT
BEGIN:STANDARD
RRULE:FREQ=YEARLY;BYMONTH=11;BYDAY=1SU
DTSTART:20070101T000000
TZOFFSETFROM:-0500
TZOFFSETTO:-0600
TZNAME:Central Standard Time
END:STANDARD
END:VTIMEZONE
BEGIN:VEVENT
DTSTART;TZID=America/Chicago:20260520T173000
DTEND;TZID=America/Chicago:20260520T190000
X-MICROSOFT-CDO-ALLDAYEVENT:FALSE
SUMMARY:Family Mixer - PL American Legion
DESCRIPTION:Join us for a Family Mixer\, great food and great conversation!  Open to the public\, all area Legions invited.
X-ALT-DESC;FMTTYPE=text/html:Join us for a Family Mixer\, great food and great conversation!  Open to the public\, all area Legions invited.
LOCATION:4435 Main Street Pequot Lakes MN 56472
UID:e.2467.1444429
SEQUENCE:3
DTSTAMP:20260421T113011Z
URL:https://business.brainerdlakeschamber.com/eventcalendar/Details/family-mixer-pl-american-legion-1710807?sourceTypeId=Hub
END:VEVENT
END:VCALENDAR
