BEGIN:VCALENDAR
VERSION:2.0
PRODID:-//ChamberMaster//Event Calendar 2.0//EN
METHOD:PUBLISH
X-PUBLISHED-TTL:P1H
REFRESH-INTERVAL:P1H
CALSCALE:GREGORIAN
BEGIN:VTIMEZONE
TZID:America/Chicago
BEGIN:DAYLIGHT
RRULE:FREQ=YEARLY;BYMONTH=3;BYDAY=2SU
DTSTART:20070101T000000
TZOFFSETFROM:-0600
TZOFFSETTO:-0500
TZNAME:Central Daylight Time
END:DAYLIGHT
BEGIN:STANDARD
RRULE:FREQ=YEARLY;BYMONTH=11;BYDAY=1SU
DTSTART:20070101T000000
TZOFFSETFROM:-0500
TZOFFSETTO:-0600
TZNAME:Central Standard Time
END:STANDARD
END:VTIMEZONE
BEGIN:VEVENT
DTSTART;TZID=America/Chicago:20250313T090000
DTEND;TZID=America/Chicago:20250315T200000
X-MICROSOFT-CDO-ALLDAYEVENT:FALSE
SUMMARY:2025 St. Paddy's Lost Pot O' Gold
DESCRIPTION:The Pot O' Gold has been found!  Located at Lake Country Crafts and Cones by Beniek family!  Ryan\, Carla\, Cody\, Grady and Brody Beniek from Bowlus\, MN.  THey found the 2024 St Paddy's Pot O' Gold also!  Somewhere within the city limits of Crosslake lays\, dangles\, hides\, or hangs the 2025 St. Paddy's Pot O' Gold. Watch for three daily clues released at 9 a.m. beginning Thurs. March 13\, 2025\, to guide you to the treasure! Every Crosslake St. Patrick's Day Parade & Celebration attendee has a story\, and finding this Pot O' Gold will give you a tale to tell for years to come! Get your family and friends together and make it a group effort\, or go it alone. Here are a few tips & rules:Please don't trespass\, it will NEVER be located on residential property.Please don't break\, remove or disassemble anything! Be friendly!  Hundreds of families are hunting for it and going through the same emotions you are!  HAVE FUN and help celebrate the winner!Clue #1The magic of change is a curious themeWhat about St. Patrick could it possibly mean?New start time and sidewalks\, a familiar ending this yearFifty-one times\, we've gathered for Irish green cheer.Clue #2Fiks-Con Roofing will be leading the paradeOn the face of the Blinky\, and an Emerald upgrade.Deals and discounts are valid todayBe sure to get your ticket\, don't delay!Clue #3 The pot o' gold will be near your feetFound by the leaning ladder next to 36 sweet treats.Where families gather\, at this legendary Crosslake spotGood  times and memories will not be forgot.\nPRIZE LISTThe prize package valued at more than $3\,000 will be on display at Lake Country Crafts and Cones. So when you find the Pot O' Gold\, go collect your treasure courtesy of these Chamber member merchants: (items will be added thru March 1\, 2025)14 Lakes Craft Brewing Co. - $25 Gift card and candle50 Lakes Bar & Bottle Shop - Minute Maid Pina Colada 66 Marine North - Hat and T-shirtAndy's Bar & Grill - SweatshirtBarstock Liquors - 1.75L TitosCrosslake Chamber - St Patrick's Parade Pack - tumbler\, fanny pack and chairCrosslake Coffee - Shamrock T-shirt and $10 gift cardCrosslake Community School - CCS Jacket & booksCrosslake Drug - SweatshirtCrosslake Fifty Lakes American Legion - American FlagCrosslake Golf & Games - One hour free simulator with one paidCrosslake Historical Log Village - Taste of Crosslake History BookCrosslake Rental - SweatshirtCrosslake Town Square - $50 Gift certificateCrosslake Veterinary Hospital - $75 Gift certificate and dog toysCrosswoods Golf Course - Free round of golf Crow Wing Kayaks - River Trip for 2 ($150 value)Curious Belongings - $25 Gift cardFrey Manufacturing - Green custom boat anchorJAG Interior Solutions - Stainless 40oz JAG tumbler (2) Phix samplesKey Wellness - Prime\, Purify & Dermaplane Facial ($149 value)Lake Country Crafts & Cones - Gift Basket Lakes Area Septic - KooziesLakes Area Tanning - 1 month unlimited tanningLakes Area Title Services - Vibe bluetooth speakerLakes Proud - Blanket and tumblerLarry's Lake Rentals - 4 pint glasses and coastersManhattan's - $50 Gift cardMaucieri's Italian Bistro - Wine basket ($150 value)Maverick Boutique - Long sleeve Tee and $25 gift cardMN Roots - Sweatshirt and hatMoonlite Bay Family Restaurant & Bar - SweatshirtNorthern MN Railroad Trackers - Puzzle\, hat and hand towelOx Lake Tavern - $50 Gift card and green sweatshirtPatrick's Cedar Chest - Black Zip-up hoodiePine Peaks Restaurant & Gifts - (2) $25 Gift cardsR&J Radio - Mall of America Nickelodeon Universe for 4 ($225 value)Rafferty's Pizza - $40 Gift certificateShoppe 218 - $25 Gift cardSimonson Lumber - $50 Gift card & sweatshirtSquirrelly Mama - $25 Gift cardThe North Salon - T-shirt and $25 gift cardThe Wharf - $50 Gift card and hatTremolo Communications - Swag - cup\, mug\, koozieWes Hanson Builders - Snuggly wearable blanket and hatWhistling Wolf Mini Golf - Free round mini golfWing Wellness - Gift certificate for infrared sauna sessionZorbaz Crozzlake - $25 Gift card\nThe 2024 Pot O' Gold was found by the Beniek family!  Ryan\, Carla\, Cody\, Grady and Brody Beniek from Bowlus\, MN located the Pot O' Gold at the Cedar Chest.
X-ALT-DESC;FMTTYPE=text/html:<!DOCTYPE html><html><head><title></title></head><body aria-disabled="false"><p><span style="color: rgb(65\, 168\, 95)\;">The Pot O&#39\; Gold has been found! &nbsp\;Located at Lake Country Crafts and Cones by Beniek family! &nbsp\;Ryan\, Carla\, Cody\, Grady and Brody Beniek from Bowlus\, MN. &nbsp\;THey found the 2024 St Paddy&#39\;s Pot O&#39\; Gold also! </span><span style="color: rgb(26\, 188\, 156)\;">&nbsp\;</span></p><p>Somewhere within the city limits of Crosslake lays\, dangles\, hides\, or hangs the 2025 St. Paddy&#39\;s Pot O&#39\; Gold. Watch for three daily clues released at 9 a.m. beginning Thurs. March 13\, 2025\, to guide you to the treasure! Every <a fr-original-style="" href="https://business.crosslake.com/events/Details/51st-annual-st-patrick-s-day-parade-celebration-in-crosslake-1122726?sourceTypeId=Website" style="user-select: auto\;">Crosslake St. Patrick&#39\;s Day Parade &amp\; Celebration</a> attendee has a story\, and finding this Pot O&#39\; Gold will give you a tale to tell for years to come! Get your family and friends together and make it a group effort\, or go it alone.&nbsp\;</p><p><strong fr-original-style="" style="font-weight: 700\;"><span style="color: rgb(97\, 189\, 109)\;">Here are a few tips &amp\; rules:</span></strong></p><ul fr-original-style="" style="list-style-position: inside\;"><li>Please don&#39\;t trespass\, it will <strong fr-original-style="" style="font-weight: 700\;">NEVER&nbsp\;</strong>be located on residential property.</li><li>Please don&#39\;t break\, remove or disassemble anything!&nbsp\;</li><li>Be friendly! &nbsp\;Hundreds of families are hunting for it and going through the same emotions you are! &nbsp\;</li><li><strong fr-original-style="" style="font-weight: 700\;">HAVE FUN</strong> and help celebrate the winner!</li></ul><hr fr-original-style="" style="clear: both\; user-select: none\; break-after: page\;"><p><strong fr-original-style="" style="font-weight: 700\;">Clue #1</strong></p><p>The magic of change is a curious theme</p><p>What about St. Patrick could it possibly mean?</p><p>New start time and sidewalks\, a familiar ending this year</p><p>Fifty-one times\, we&rsquo\;ve gathered for Irish green cheer.</p><p><strong fr-original-style="" style="font-weight: 700\;">Clue #2</strong></p><p>Fiks-Con Roofing will be leading the parade</p><p>On the face of the Blinky\, and an Emerald upgrade.</p><p>Deals and discounts are valid today</p><p>Be sure to get your ticket\, don&rsquo\;t delay!</p><p><strong fr-original-style="" style="font-weight: 700\;">Clue #3&nbsp\;</strong></p><p>The pot o&#39\; gold will be near your feet</p><p>Found by the leaning ladder next to 36 sweet treats.</p><p>Where families gather\, at this legendary Crosslake spot</p><p>Good &nbsp\;times and memories will not be forgot.</p><p><br></p><p><span style="font-size: 24px\; color: rgb(97\, 189\, 109)\;"><strong fr-original-style="" style="font-weight: 700\;">PRIZE LIST</strong></span></p><p>The <strong fr-original-style="" style="font-weight: 700\;">prize package valued at more than $3\,000</strong> will be on display at Lake Country Crafts and Cones. So when you find the Pot O&#39\; Gold\, go collect your treasure courtesy of these Chamber member merchants: (items will be added thru March 1\, 2025)</p><p><strong fr-original-style="" style="font-weight: 700\;">14 Lakes Craft Brewing Co.&nbsp\;</strong>- $25 Gift card and candle</p><p><strong fr-original-style="" style="font-weight: 700\;">50 Lakes Bar &amp\; Bottle Shop&nbsp\;</strong>- Minute Maid Pina Colada&nbsp\;</p><p><strong fr-original-style="" style="font-weight: 700\;">66 Marine North</strong> - Hat and T-shirt</p><p><strong fr-original-style="" style="font-weight: 700\;">Andy&#39\;s Bar &amp\; Grill&nbsp\;</strong>- Sweatshirt</p><p><strong fr-original-style="" style="font-weight: 700\;">Barstock Liquors</strong> - 1.75L Titos</p><p><strong fr-original-style="" style="font-weight: 700\;">Crosslake Chamber -&nbsp\;</strong>St Patrick&#39\;s Parade Pack - tumbler\, fanny pack and chair</p><p><strong fr-original-style="" style="font-weight: 700\;">Crosslake Coffee -&nbsp\;</strong>Shamrock T-shirt and $10 gift card</p><p><strong fr-original-style="" style="font-weight: 700\;">Crosslake Community School</strong> - CCS Jacket &amp\; books</p><p><strong fr-original-style="" style="font-weight: 700\;">Crosslake Drug&nbsp\;</strong>- Sweatshirt</p><p><strong fr-original-style="" style="font-weight: 700\;">Crosslake Fifty Lakes American Legion</strong> - American Flag</p><p><strong fr-original-style="" style="font-weight: 700\;">Crosslake Golf &amp\; Games</strong> - One hour free simulator with one paid</p><p><strong fr-original-style="" style="font-weight: 700\;">Crosslake Historical Log Village</strong> - Taste of Crosslake History Book</p><p><strong fr-original-style="" style="font-weight: 700\;">Crosslake Rental&nbsp\;</strong>- Sweatshirt</p><p><strong fr-original-style="" style="font-weight: 700\;">Crosslake Town Square</strong> - $50 Gift certificate</p><p><strong fr-original-style="" style="font-weight: 700\;">Crosslake Veterinary Hospital&nbsp\;</strong>- $75 Gift certificate and dog toys</p><p><strong fr-original-style="" style="font-weight: 700\;">Crosswoods Golf Course</strong> - Free round of golf&nbsp\;</p><p><strong fr-original-style="" style="font-weight: 700\;">Crow Wing Kayaks</strong> - River Trip for 2 ($150 value)</p><p><strong fr-original-style="" style="font-weight: 700\;">Curious Belongings&nbsp\;</strong>- $25 Gift card</p><p><strong fr-original-style="" style="font-weight: 700\;">Frey Manufacturing</strong> - Green custom boat anchor</p><p><strong fr-original-style="" style="font-weight: 700\;">JAG Interior Solutions</strong> - Stainless 40oz JAG tumbler (2) Phix samples</p><p><strong fr-original-style="" style="font-weight: 700\;">Key Wellness&nbsp\;</strong>- Prime\, Purify &amp\; Dermaplane Facial ($149 value)</p><p><strong fr-original-style="" style="font-weight: 700\;">Lake Country Crafts &amp\; Cones&nbsp\;</strong>- Gift Basket&nbsp\;</p><p><strong fr-original-style="" style="font-weight: 700\;">Lakes Area Septic</strong> - Koozies</p><p><strong fr-original-style="" style="font-weight: 700\;">Lakes Area Tanning</strong> - 1 month unlimited tanning</p><p><strong fr-original-style="" style="font-weight: 700\;">Lakes Area Title Services</strong> - Vibe bluetooth speaker</p><p><strong fr-original-style="" style="font-weight: 700\;">Lakes Proud</strong> - Blanket and tumbler</p><p><strong fr-original-style="" style="font-weight: 700\;">Larry&#39\;s Lake Rentals</strong> - 4 pint glasses and coasters</p><p><strong fr-original-style="" style="font-weight: 700\;">Manhattan&#39\;s</strong> - $50 Gift card</p><p><strong fr-original-style="" style="font-weight: 700\;">Maucieri&#39\;s Italian Bistro</strong> - Wine basket ($150 value)</p><p><strong fr-original-style="" style="font-weight: 700\;">Maverick Boutique</strong> - Long sleeve Tee and $25 gift card</p><p><strong fr-original-style="" style="font-weight: 700\;">MN Roots</strong> - Sweatshirt and hat</p><p><strong fr-original-style="" style="font-weight: 700\;">Moonlite Bay Family Restaurant &amp\; Bar&nbsp\;</strong>- Sweatshirt</p><p><strong fr-original-style="" style="font-weight: 700\;">Northern MN Railroad Trackers</strong> - Puzzle\, hat and hand towel</p><p><strong fr-original-style="" style="font-weight: 700\;">Ox Lake Tavern</strong> - $50 Gift card and green sweatshirt</p><p><strong fr-original-style="" style="font-weight: 700\;">Patrick&#39\;s Cedar Chest&nbsp\;</strong>- Black Zip-up hoodie</p><p><strong fr-original-style="" style="font-weight: 700\;">Pine Peaks Restaurant &amp\; Gifts</strong> - (2) $25 Gift cards</p><p><strong fr-original-style="" style="font-weight: 700\;">R&amp\;J Radio</strong> - Mall of America Nickelodeon Universe for 4 ($225 value)</p><p><strong fr-original-style="" style="font-weight: 700\;">Rafferty&#39\;s Pizza&nbsp\;</strong>- $40 Gift certificate</p><p><strong fr-original-style="" style="font-weight: 700\;">Shoppe 218</strong> - $25 Gift card</p><p><strong fr-original-style="" style="font-weight: 700\;">Simonson Lumber&nbsp\;</strong>- $50 Gift card &amp\; sweatshirt</p><p><strong fr-original-style="" style="font-weight: 700\;">Squirrelly Mama&nbsp\;</strong>- $25 Gift card</p><p><strong fr-original-style="" style="font-weight: 700\;">The North Salon</strong> - T-shirt and $25 gift card</p><p><strong fr-original-style="" style="font-weight: 700\;">The Wharf&nbsp\;</strong>- $50 Gift card and hat</p><p><strong fr-original-style="" style="font-weight: 700\;">Tremolo Communications</strong> - Swag - cup\, mug\, koozie</p><p><strong fr-original-style="" style="font-weight: 700\;">Wes Hanson Builders -&nbsp\;</strong>Snuggly wearable blanket and hat</p><p><strong fr-original-style="" style="font-weight: 700\;">Whistling Wolf Mini Golf&nbsp\;</strong>- Free round mini golf</p><p><strong fr-original-style="" style="font-weight: 700\;">Wing Wellness&nbsp\;</strong>- Gift certificate for infrared sauna session</p><p><strong fr-original-style="" style="font-weight: 700\;">Zorbaz Crozzlake</strong> - $25 Gift card</p><p><br></p><p>The 2024 Pot O&#39\; Gold was found by the Beniek family! &nbsp\;Ryan\, Carla\, Cody\, Grady and Brody Beniek from Bowlus\, MN located the Pot O&#39\; Gold at the Cedar Chest.</p></body></html>
LOCATION:
UID:e.2467.1115015
SEQUENCE:3
DTSTAMP:20260425T163511Z
URL:https://business.brainerdlakeschamber.com/eventcalendar/Details/2025-st-paddy-s-lost-pot-o-gold-1294084?sourceTypeId=Hub
END:VEVENT
END:VCALENDAR
